BEGIN:VCALENDAR
VERSION:2.0
PRODID:-//Trinity at 22nd | Trinity Philadelphia | Trinity Memorial Church - ECPv6.15.20//NONSGML v1.0//EN
CALSCALE:GREGORIAN
METHOD:PUBLISH
X-ORIGINAL-URL:https://trinityat22nd.org
X-WR-CALDESC:Events for Trinity at 22nd | Trinity Philadelphia | Trinity Memorial Church
REFRESH-INTERVAL;VALUE=DURATION:PT1H
X-Robots-Tag:noindex
X-PUBLISHED-TTL:PT1H
BEGIN:VTIMEZONE
TZID:America/New_York
BEGIN:DAYLIGHT
TZOFFSETFROM:-0500
TZOFFSETTO:-0400
TZNAME:EDT
DTSTART:20230312T070000
END:DAYLIGHT
BEGIN:STANDARD
TZOFFSETFROM:-0400
TZOFFSETTO:-0500
TZNAME:EST
DTSTART:20231105T060000
END:STANDARD
BEGIN:DAYLIGHT
TZOFFSETFROM:-0500
TZOFFSETTO:-0400
TZNAME:EDT
DTSTART:20240310T070000
END:DAYLIGHT
BEGIN:STANDARD
TZOFFSETFROM:-0400
TZOFFSETTO:-0500
TZNAME:EST
DTSTART:20241103T060000
END:STANDARD
BEGIN:DAYLIGHT
TZOFFSETFROM:-0500
TZOFFSETTO:-0400
TZNAME:EDT
DTSTART:20250309T070000
END:DAYLIGHT
BEGIN:STANDARD
TZOFFSETFROM:-0400
TZOFFSETTO:-0500
TZNAME:EST
DTSTART:20251102T060000
END:STANDARD
END:VTIMEZONE
BEGIN:VEVENT
DTSTART;TZID=America/New_York:20240204T103000
DTEND;TZID=America/New_York:20240204T113000
DTSTAMP:20260425T232340
CREATED:20240124T144835Z
LAST-MODIFIED:20240124T145424Z
UID:1287-1707042600-1707046200@trinityat22nd.org
SUMMARY:The Fifth Sunday after Epiphany | Baptism
DESCRIPTION:Join us for a traditional Episcopal celebration of the Holy Eucharist. Everyone is Welcome! Today we will be offering the Holy Sacrament of Baptism to one of our young ones\, which is always rejuvenating and inspiring
URL:https://trinityat22nd.org/event/the-fifth-sunday-after-epiphany-baptism/
LOCATION:PA
ATTACH;FMTTYPE=image/jpeg:https://trinityat22nd.org/wp-content/uploads/2024/01/fifthsunday.jpeg
END:VEVENT
END:VCALENDAR