BEGIN:VCALENDAR
VERSION:2.0
PRODID:-//Trinity at 22nd | Trinity Philadelphia | Trinity Memorial Church - ECPv6.15.20//NONSGML v1.0//EN
CALSCALE:GREGORIAN
METHOD:PUBLISH
X-ORIGINAL-URL:https://trinityat22nd.org
X-WR-CALDESC:Events for Trinity at 22nd | Trinity Philadelphia | Trinity Memorial Church
REFRESH-INTERVAL;VALUE=DURATION:PT1H
X-Robots-Tag:noindex
X-PUBLISHED-TTL:PT1H
BEGIN:VTIMEZONE
TZID:America/New_York
BEGIN:DAYLIGHT
TZOFFSETFROM:-0500
TZOFFSETTO:-0400
TZNAME:EDT
DTSTART:20230312T070000
END:DAYLIGHT
BEGIN:STANDARD
TZOFFSETFROM:-0400
TZOFFSETTO:-0500
TZNAME:EST
DTSTART:20231105T060000
END:STANDARD
BEGIN:DAYLIGHT
TZOFFSETFROM:-0500
TZOFFSETTO:-0400
TZNAME:EDT
DTSTART:20240310T070000
END:DAYLIGHT
BEGIN:STANDARD
TZOFFSETFROM:-0400
TZOFFSETTO:-0500
TZNAME:EST
DTSTART:20241103T060000
END:STANDARD
BEGIN:DAYLIGHT
TZOFFSETFROM:-0500
TZOFFSETTO:-0400
TZNAME:EDT
DTSTART:20250309T070000
END:DAYLIGHT
BEGIN:STANDARD
TZOFFSETFROM:-0400
TZOFFSETTO:-0500
TZNAME:EST
DTSTART:20251102T060000
END:STANDARD
END:VTIMEZONE
BEGIN:VEVENT
DTSTART;TZID=America/New_York:20240225T173000
DTEND;TZID=America/New_York:20240225T200000
DTSTAMP:20260425T232408
CREATED:20240221T154516Z
LAST-MODIFIED:20240221T154905Z
UID:1314-1708882200-1708891200@trinityat22nd.org
SUMMARY:Open Mic Community Potluck
DESCRIPTION:Community Potluck Dinner +Open Mic \nInvite your friends and neighbors to the Community Open Mic \nTo sign up\, email bffphilly@gmail.com
URL:https://trinityat22nd.org/event/potluck-dinner/
LOCATION:Trinity@22nd\, 2212 Spruce Street\, Philadelphia\, PA\, 19103
ATTACH;FMTTYPE=image/png:https://trinityat22nd.org/wp-content/uploads/2024/02/BFF_Potluck_Feb25_Cards-1-4.png
END:VEVENT
END:VCALENDAR